BEGIN:VCALENDAR
PRODID:NingEventWidget-v1
VERSION:2.0
METHOD:PUBLISH
BEGIN:VTIMEZONE
TZID:Europe/Berlin
X-LIC-LOCATION:Europe/Berlin
BEGIN:DAYLIGHT
TZOFFSETFROM:+0100
TZOFFSETTO:+0200
TZNAME:CEST
DTSTART:19700329T020000
RRULE:FREQ=YEARLY;BYMONTH=3;BYDAY=-1SU
END:DAYLIGHT
BEGIN:STANDARD
TZOFFSETFROM:+0200
TZOFFSETTO:+0100
TZNAME:CET
DTSTART:19701025T030000
RRULE:FREQ=YEARLY;BYMONTH=10;BYDAY=-1SU
END:STANDARD
END:VTIMEZONE
BEGIN:VEVENT
UID:3858342:Event:4944
DTSTAMP:20260422T164355Z
SUMMARY:Wir sind das Volk!
DESCRIPTION:\"20 Jahre Ost-Länder Malerei-Sammlung\n\nWeitere Informa
 tionen erhalten Sie unter http://hannos-forum.de/events/wir-sind-das-v
 olk
DTSTART;TZID=Europe/Berlin:20100628T180000
DTEND;TZID=Europe/Berlin:20100702T190000
CATEGORIES:ausstellung
LOCATION:Gemeinde Galerie \"Spazio Klien\"
WEBSITE:
URL:
CONTACT:
ORGANIZER;CN="Bruno Cappelletti":http://hannos-forum.de/profile/BrunoC
 appelletti
ATTACH;FMTTYPE="image/jpeg":http://storage.ning.com/topology/rest/1.0/
 file/get/2835432221?profile=original
ATTENDEE;ROLE=REQ-PARTICIPANT;PARTSTAT=ACCEPTED;RSVP=TRUE;CN="Bruno Ca
 ppelletti":http://hannos-forum.de/profile/BrunoCappelletti
END:VEVENT
END:VCALENDAR
