BEGIN:VCALENDAR
PRODID:NingEventWidget-v1
VERSION:2.0
METHOD:PUBLISH
BEGIN:VTIMEZONE
TZID:Europe/Berlin
X-LIC-LOCATION:Europe/Berlin
BEGIN:DAYLIGHT
TZOFFSETFROM:+0100
TZOFFSETTO:+0200
TZNAME:CEST
DTSTART:19700329T020000
RRULE:FREQ=YEARLY;BYMONTH=3;BYDAY=-1SU
END:DAYLIGHT
BEGIN:STANDARD
TZOFFSETFROM:+0200
TZOFFSETTO:+0100
TZNAME:CET
DTSTART:19701025T030000
RRULE:FREQ=YEARLY;BYMONTH=10;BYDAY=-1SU
END:STANDARD
END:VTIMEZONE
BEGIN:VEVENT
UID:3858342:Event:83
DTSTAMP:20260422T210827Z
SUMMARY:Weitere Veranstaltungen von Spreeforum International
DESCRIPTION:http://www.spreeforum.com/aktuelles/termine.html\n\nWeiter
 e Informationen erhalten Sie unter http://hannos-forum.de/events/weite
 re-veranstaltungen-von
DTSTART;TZID=Europe/Berlin:20090912T000000
DTEND;TZID=Europe/Berlin:20091205T235900
CATEGORIES:seminare, messe
LOCATION:deutschlandweit
WEBSITE:http://www.spreeforum.com/aktuelles/termine.html
URL:http://www.spreeforum.com/aktuelles/termine.html
CONTACT:
ORGANIZER:Hanno Reitschmidt, Falk Al-Omary
ATTACH;FMTTYPE="image/jpeg":
ATTENDEE;ROLE=REQ-PARTICIPANT;PARTSTAT=ACCEPTED;RSVP=TRUE;CN="Hanno Re
 itschmidt":http://hannos-forum.de/profile/HannoReitschmidt
END:VEVENT
END:VCALENDAR
