BEGIN:VCALENDAR
PRODID:NingEventWidget-v1
VERSION:2.0
METHOD:PUBLISH
BEGIN:VTIMEZONE
TZID:Europe/Berlin
X-LIC-LOCATION:Europe/Berlin
BEGIN:DAYLIGHT
TZOFFSETFROM:+0100
TZOFFSETTO:+0200
TZNAME:CEST
DTSTART:19700329T020000
RRULE:FREQ=YEARLY;BYMONTH=3;BYDAY=-1SU
END:DAYLIGHT
BEGIN:STANDARD
TZOFFSETFROM:+0200
TZOFFSETTO:+0100
TZNAME:CET
DTSTART:19701025T030000
RRULE:FREQ=YEARLY;BYMONTH=10;BYDAY=-1SU
END:STANDARD
END:VTIMEZONE
BEGIN:VEVENT
UID:3858342:Event:42343
DTSTAMP:20260422T153144Z
SUMMARY:THE POWER OF PERCEPTION
DESCRIPTION:Kunstausstellung\nTHE POWER OF PERCEPTION\nim RAW ART SPA
 CE, NEW YORK CITY\nkuratiert von\nCREATIVE CONCEPT STUDIOS New York\nM
 ANUELLA MUERNER MARIONI ist mit ihren zwei\nKunstwerken MERMAID © und
  SOLARTORSO © vertreten. \n\nSOLARTORSO © by MANUELLA MUERNER MARI
 ONI\n\n\n\nWeitere Informationen erhalten Sie unter http://hannos-foru
 m.de/events/the-power-of-perception
DTSTART;TZID=Europe/Berlin:20130301T000000
DTEND;TZID=Europe/Berlin:20130315T235900
CATEGORIES:kunstausstellung
LOCATION:Raw Art Space New York City
WEBSITE:http://creativeconceptincstudios.com/2013/02/11/the-power-of-p
 erception/manuella-muerner-marioni-2/
URL:http://creativeconceptincstudios.com/2013/02/11/the-power-of-perce
 ption/manuella-muerner-marioni-2/
CONTACT:001 212 582 0232
ORGANIZER:Creative Concept Studios New York
ATTACH;FMTTYPE="image/jpeg":http://storage.ning.com/topology/rest/1.0/
 file/get/2805541054?profile=original
ATTENDEE;ROLE=REQ-PARTICIPANT;PARTSTAT=ACCEPTED;RSVP=TRUE;CN="Manuella
  Muerner Marioni":http://hannos-forum.de/profile/ManuellaMuernerMarion
 i
END:VEVENT
END:VCALENDAR
