BEGIN:VCALENDAR
PRODID:NingEventWidget-v1
VERSION:2.0
METHOD:PUBLISH
BEGIN:VTIMEZONE
TZID:Europe/Berlin
X-LIC-LOCATION:Europe/Berlin
BEGIN:DAYLIGHT
TZOFFSETFROM:+0100
TZOFFSETTO:+0200
TZNAME:CEST
DTSTART:19700329T020000
RRULE:FREQ=YEARLY;BYMONTH=3;BYDAY=-1SU
END:DAYLIGHT
BEGIN:STANDARD
TZOFFSETFROM:+0200
TZOFFSETTO:+0100
TZNAME:CET
DTSTART:19701025T030000
RRULE:FREQ=YEARLY;BYMONTH=10;BYDAY=-1SU
END:STANDARD
END:VTIMEZONE
BEGIN:VEVENT
UID:3858342:Event:55358
DTSTAMP:20260422T164357Z
SUMMARY:SPECTRUM MIAMI 2014
DESCRIPTION:SPECTRUM MIAMI 2014\n3. - 7. Dezember 2014\n\nMANUELLA'S M
 UERNER MARIONI Kunstwerke findet Ihr am Stand 613 bei Contemporary Ar
 t Network!\n\nNew Fashion ©, Acryl mit Spectrum-Spiegel-Fragmente und
  CD's auf Leinwand, 55 x 46 cm\n\n\n\n\n\nWeitere Informationen erhalt
 en Sie unter http://hannos-forum.de/events/spectrum-miami-2014
DTSTART;TZID=Europe/Berlin:20141203T180000
DTEND;TZID=Europe/Berlin:20141207T180000
CATEGORIES:internationale, kunstmesse
LOCATION:Miami Midtown
WEBSITE:http://spectrum-miami.com/
URL:http://spectrum-miami.com/
CONTACT:
ORGANIZER:Eric Smith, Show Director
ATTACH;FMTTYPE="image/jpeg":http://storage.ning.com/topology/rest/1.0/
 file/get/2805532395?profile=original
ATTENDEE;ROLE=REQ-PARTICIPANT;PARTSTAT=ACCEPTED;RSVP=TRUE;CN="Manuella
  Muerner Marioni":http://hannos-forum.de/profile/ManuellaMuernerMarion
 i
END:VEVENT
END:VCALENDAR
