BEGIN:VCALENDAR
PRODID:NingEventWidget-v1
VERSION:2.0
METHOD:PUBLISH
BEGIN:VTIMEZONE
TZID:Europe/Berlin
X-LIC-LOCATION:Europe/Berlin
BEGIN:DAYLIGHT
TZOFFSETFROM:+0100
TZOFFSETTO:+0200
TZNAME:CEST
DTSTART:19700329T020000
RRULE:FREQ=YEARLY;BYMONTH=3;BYDAY=-1SU
END:DAYLIGHT
BEGIN:STANDARD
TZOFFSETFROM:+0200
TZOFFSETTO:+0100
TZNAME:CET
DTSTART:19701025T030000
RRULE:FREQ=YEARLY;BYMONTH=10;BYDAY=-1SU
END:STANDARD
END:VTIMEZONE
BEGIN:VEVENT
UID:3858342:Event:45545
DTSTAMP:20260421T103240Z
SUMMARY:New York: Kunstausstellung in der top Galerie Amsterdam Whitne
 y
DESCRIPTION:Amsterdam Whitney Gallery in New York\npräsentiert: \n\n
 Die Künstlerin Manuella Muerner Marioni ist an der Vernissage vom 9.
  Mai 2013 in der Galerie anwesend !\n\nTorso gold © Mixed Media Skulp
 tur by\nManuella Muerner Marioni publiziert in\nNY Arts Magazine\n \
 n\nWeitere Informationen erhalten Sie unter http://hannos-forum.de/eve
 nts/new-york-kunstausstellung-in-der-top-galerie-amsterdam-whitney
DTSTART;TZID=Europe/Berlin:20130503T110000
DTEND;TZID=Europe/Berlin:20130604T170000
CATEGORIES:kunstausstellung
LOCATION:Amsterdam Whitney Gallery
WEBSITE:http://www.amsterdamwhitneygallery.com/home.html
URL:http://www.amsterdamwhitneygallery.com/home.html
CONTACT:001 212 255 90 50
ORGANIZER:Ruthie Tucker, Executive Director Amsterdam Whitney Gallery
ATTACH;FMTTYPE="image/jpeg":http://storage.ning.com/topology/rest/1.0/
 file/get/2805531299?profile=original
ATTENDEE;ROLE=REQ-PARTICIPANT;PARTSTAT=ACCEPTED;RSVP=TRUE;CN="Manuella
  Muerner Marioni":http://hannos-forum.de/profile/ManuellaMuernerMarion
 i
END:VEVENT
END:VCALENDAR
