BEGIN:VCALENDAR
PRODID:NingEventWidget-v1
VERSION:2.0
METHOD:PUBLISH
BEGIN:VTIMEZONE
TZID:Europe/Berlin
X-LIC-LOCATION:Europe/Berlin
BEGIN:DAYLIGHT
TZOFFSETFROM:+0100
TZOFFSETTO:+0200
TZNAME:CEST
DTSTART:19700329T020000
RRULE:FREQ=YEARLY;BYMONTH=3;BYDAY=-1SU
END:DAYLIGHT
BEGIN:STANDARD
TZOFFSETFROM:+0200
TZOFFSETTO:+0100
TZNAME:CET
DTSTART:19701025T030000
RRULE:FREQ=YEARLY;BYMONTH=10;BYDAY=-1SU
END:STANDARD
END:VTIMEZONE
BEGIN:VEVENT
UID:3858342:Event:41609
DTSTAMP:20260422T181710Z
SUMMARY:NCC - NEW CONTEMPORARY COLLECTION
DESCRIPTION:NCC â€“ NEW CONTEMPORARY COLLECTION\nINTERNATIONALES AUSST
 ELLUNGSPROJEKT KURATIERT VOM KUNSTMAGAZIN \"ITALIA ARTE\",\nINTERNATIO
 NALES MUSEUM ITALIA ARTE\nUND GALERIE FOLCOÂ \n\nvom 15. Januar bis 2.
  Februar 2013\nVernissage: 15. Januar 2013 um 18.00 Uhr\nÃ–ffnungszeit
 en Museum: Dienstag â€“ Samstag 15.00 â€“ 19.00 Uhr\nMIIT Internationa
 les Museum ITALIA ARTEÂ fÃ¼r moderne und zeitgenÃ¶ssische Kunst ist ei
 n neues Kunstmuseum, dass sichÂ im Herzen der Stadt Turin in einem alt
 en Palast des '700 und sich in bester Nachbarschaft von Galerien, Muse
 en und Stiftungen befindet.\nDie KÃ¼nstlerin MANUELLA MUERNER MARIONIÂ
  ist mit ihrem berÃ¼hmten Kunstwerk SPHINX Â© vertreten, publiziert in
 Â Whoâ€™s Who in Visual Art, Vol. 2012 â€“ 2013, Leipzig (D).\n\nSPHIN
 X Â© byÂ MANUELLA MUERNER MARIONI\n\nWeitere Informationen erhalten Si
 e unter http://hannos-forum.de/events/ncc-new-contemporary-collection
DTSTART;TZID=Europe/Berlin:20130115T180000
DTEND;TZID=Europe/Berlin:20130202T190000
CATEGORIES:kunstausstellung
LOCATION:MIIT MUSEO INTERNAZIONALE ITALIA ARTE
WEBSITE:http://www.museomiit.it/index.html
URL:http://www.museomiit.it/index.html
CONTACT:0039 011 81 29 776
ORGANIZER:Guido Folgo, Direktor MIIT
ATTACH;FMTTYPE="image/jpeg":http://storage.ning.com/topology/rest/1.0/
 file/get/2805531378?profile=original
ATTENDEE;ROLE=REQ-PARTICIPANT;PARTSTAT=ACCEPTED;RSVP=TRUE;CN="Manuella
  Muerner Marioni":http://hannos-forum.de/profile/ManuellaMuernerMarion
 i
END:VEVENT
END:VCALENDAR
