BEGIN:VCALENDAR
PRODID:NingEventWidget-v1
VERSION:2.0
METHOD:PUBLISH
BEGIN:VTIMEZONE
TZID:Europe/Berlin
X-LIC-LOCATION:Europe/Berlin
BEGIN:DAYLIGHT
TZOFFSETFROM:+0100
TZOFFSETTO:+0200
TZNAME:CEST
DTSTART:19700329T020000
RRULE:FREQ=YEARLY;BYMONTH=3;BYDAY=-1SU
END:DAYLIGHT
BEGIN:STANDARD
TZOFFSETFROM:+0200
TZOFFSETTO:+0100
TZNAME:CET
DTSTART:19701025T030000
RRULE:FREQ=YEARLY;BYMONTH=10;BYDAY=-1SU
END:STANDARD
END:VTIMEZONE
BEGIN:VEVENT
UID:3858342:Event:44342
DTSTAMP:20260422T121907Z
SUMMARY:Mit Feuer, Hammer und Feile...
DESCRIPTION:Info - Abend für die neuen Goldschmiedekurse in der Golds
 chmiede Eickhoff in Willich zwischen Düsseldorf, Mönchengladbach, Vi
 ersen und Krefeld \n \nNeue Goldschmiedekurse im April\nInteressente
 n für meine neuen Goldschmiedekurse biete ich am 8. April 2013 um 19 
 Uhr die Gelegenheit, sich über Arbeitsplatz, Inhalte, Voraussetzungen
  etc. zu informieren. Hierzu sind Sie herzlich eingeladen!\nAn diesem 
 Abend besteht die Möglichkeit, sich für die Kurse anzumelden.\nVoran
 meldungen nehme ich gerne telefonisch entgegen.  \n \nGoldschmiedek
 urse \nTragen Sie Ihr Schmuckstück, das nur einmal existiert und von
  Ihnen selbst entworfen und angefertigt wurde!\nZur Verwirklichung Ihr
 er Ideen biete ich Ihnen Goldschmiedekurse in meiner\nGoldschmiedewerk
 statt an:\nMeine Goldschmiedekurse bieten Ihnen Techniken wie z.B. den
  Schmuckguß im Sandgußverfahren, das Schmieden, Anfertigungen von Fa
 ssungen (nur für Fortgeschrittene), Montieren, Treiben, etc.\nIn jede
 m dieser Kurse lernen Sie ein Schmuckstück nach Ihren eigenen Ideen z
 u konzipieren und von der Materialvorbereitung, wie das Legieren und S
 chmelzen, bis hin zur Endbearbeitung fertig zu stellen.\nGoldschmiedek
 urse in meiner Werkstatt setzen ein fertiges Schmuckunikat zum Ziel, w
 as in nahezu allen(!) Fällen von meinen Kursteilnehmern erreicht wird
 .\n \nWir treffen uns nach Absprache zu 8 Terminen für je 2-3 Stunde
 n mit jeweils 2-3\nTeilnehmer(inne)n.\n \nDie Kursusgebühr beträgt 
 390,- € pro Person zuzügl. der anfallenden Materialkosten.\nEigenes
  Material kann verwendet werden (Altgold, Altsilber).\nMeine Goldschmi
 edekurse erfreuen sich großer Beliebtheit, auch als exklusives Gesche
 nk für handwerklich interessierte Schmuckliebhaber/innen!\n \nDie Te
 rmine für das nächste Info-Treffen für meine Kurse finden Sie auf\n
 www.goldschmiede-eickhoff.de unter \"Termine\". \n \nVeranstaltungso
 rt:\nGoldschmiede Eickhoff,\nMoosheide 96,\n47877 Willich,\n02154/8861
 88 oder 0160-8163344\n \nDie Goldschmiede Eickhoff im Jahr 2013: seit
  20 Jahren Anfertigung von Unikatschmuck in Gold, Silber, Platin und P
 alladium. Seit 10 Jahren bietet die Goldschmiede Eickhoff außerdem Go
 ldschmiedekurse an, in denen Kursteilnehmer unter Anleitung des Meiste
 rs ihre eigenen Schmuckunikate anfertigen können.\n\nWeitere Informat
 ionen erhalten Sie unter http://hannos-forum.de/events/mit-feuer-hamme
 r-und-feile
DTSTART;TZID=Europe/Berlin:20130408T190000
DTEND;TZID=Europe/Berlin:20130408T200000
CATEGORIES:info, -, abend, möglichkeit, zur, anmeldung
LOCATION:Goldschmiede Eickhoff
WEBSITE:http://www.goldschmiede-eickhoff.de
URL:http://www.goldschmiede-eickhoff.de
CONTACT:02154/886188
ORGANIZER;CN="Goldschmiede Eickhoff":http://hannos-forum.de/profile/Go
 ldschmiedeEickhoff
ATTACH;FMTTYPE="image/jpeg":http://storage.ning.com/topology/rest/1.0/
 file/get/2835437772?profile=original
ATTENDEE;ROLE=REQ-PARTICIPANT;PARTSTAT=ACCEPTED;RSVP=TRUE;CN="Goldschm
 iede Eickhoff":http://hannos-forum.de/profile/GoldschmiedeEickhoff
END:VEVENT
END:VCALENDAR
