BEGIN:VCALENDAR
PRODID:NingEventWidget-v1
VERSION:2.0
METHOD:PUBLISH
BEGIN:VTIMEZONE
TZID:Europe/Berlin
X-LIC-LOCATION:Europe/Berlin
BEGIN:DAYLIGHT
TZOFFSETFROM:+0100
TZOFFSETTO:+0200
TZNAME:CEST
DTSTART:19700329T020000
RRULE:FREQ=YEARLY;BYMONTH=3;BYDAY=-1SU
END:DAYLIGHT
BEGIN:STANDARD
TZOFFSETFROM:+0200
TZOFFSETTO:+0100
TZNAME:CET
DTSTART:19701025T030000
RRULE:FREQ=YEARLY;BYMONTH=10;BYDAY=-1SU
END:STANDARD
END:VTIMEZONE
BEGIN:VEVENT
UID:3858342:Event:43591
DTSTAMP:20260422T140108Z
SUMMARY:LUXURY ART
DESCRIPTION:LUXURY ART\nITALIAN FOREIGN AND CONTEMPORARY ART\n05-24 Ap
 ril 2013\nMANUELLA MUERNER MARIONI im\nMuseum Altes Dampfbad Baden-B
 aden, Deutschland\nAUSSTELLUNG  KURATIERT VON ITALIA ARTE, MIIT\nMUSE
 O INTERNAZIONALE ITALIA ARTE, GALERIE FOLCO\n\n\nWeitere Informationen
  erhalten Sie unter http://hannos-forum.de/events/luxury-art
DTSTART;TZID=Europe/Berlin:20130405T180000
DTEND;TZID=Europe/Berlin:20130424T190000
CATEGORIES:kunstausstellung
LOCATION:Museum Altes Dampfbad
WEBSITE:http://www.gfjk.de/
URL:http://www.gfjk.de/
CONTACT:+49 07221-26261
ORGANIZER:Italia Arte, Dr. Guido Folco
ATTACH;FMTTYPE="image/jpeg":http://storage.ning.com/topology/rest/1.0/
 file/get/2805535641?profile=original
ATTENDEE;ROLE=REQ-PARTICIPANT;PARTSTAT=ACCEPTED;RSVP=TRUE;CN="Manuella
  Muerner Marioni":http://hannos-forum.de/profile/ManuellaMuernerMarion
 i
END:VEVENT
END:VCALENDAR
