BEGIN:VCALENDAR
PRODID:NingEventWidget-v1
VERSION:2.0
METHOD:PUBLISH
BEGIN:VTIMEZONE
TZID:Europe/Berlin
X-LIC-LOCATION:Europe/Berlin
BEGIN:DAYLIGHT
TZOFFSETFROM:+0100
TZOFFSETTO:+0200
TZNAME:CEST
DTSTART:19700329T020000
RRULE:FREQ=YEARLY;BYMONTH=3;BYDAY=-1SU
END:DAYLIGHT
BEGIN:STANDARD
TZOFFSETFROM:+0200
TZOFFSETTO:+0100
TZNAME:CET
DTSTART:19701025T030000
RRULE:FREQ=YEARLY;BYMONTH=10;BYDAY=-1SU
END:STANDARD
END:VTIMEZONE
BEGIN:VEVENT
UID:3858342:Event:4225
DTSTAMP:20260422T181718Z
SUMMARY:KUNSTSONNTAG 2010
DESCRIPTION:KUNSTSONNTAG 2010 VON UND MIT ANNETTE KUNOW\n\n\nBeginn: S
 o, 13.06.2010, 11:00\n\nEnde: So, 13.06.2010, 13:00\n\nOrt: Baumhofstr
 . 39 d, 44799 Bochum\n\nSehr herzlich lade ich zu meinem \"Kunstsonnta
 g 2010\" am 13. Juni 2010 ein.\n\nIn meinen neu gestalteten RÃ¤umen pr
 Ã¤sentiere ich meine Kunstwerke aus Ã¼ber 30 Jahren kÃ¼nstlerischer TÃ
 ¤tigkeit.\n\nAls besonderen HÃ¶hepunkt verlose ich wÃ¤hrend des Kunsts
 onntags zwei meiner Werke.\n\nZeitplan:\n11:00 Uhr Empfang\n11:20 Uhr 
 BegrÃ¼ÃŸung\n11:30 Uhr Verlosung\n13:00 Uhr Ende\n\nWeitere Informatio
 nen erhalten Sie unter http://hannos-forum.de/events/kunstsonntag-2010
DTSTART;TZID=Europe/Berlin:20100613T110000
DTEND;TZID=Europe/Berlin:20100613T130000
CATEGORIES:erÃ¶ffnung, der, neuen, ausstellungrÃ¤ume
LOCATION:Bochum
WEBSITE:http://www.annette-kunow.de
URL:http://www.annette-kunow.de
CONTACT:
ORGANIZER;CN="Annette Kunow":http://hannos-forum.de/profile/AnnetteKun
 ow
ATTACH;FMTTYPE="image/jpeg":
ATTENDEE;ROLE=REQ-PARTICIPANT;PARTSTAT=ACCEPTED;RSVP=TRUE;CN="Annette 
 Kunow":http://hannos-forum.de/profile/AnnetteKunow
END:VEVENT
END:VCALENDAR
