BEGIN:VCALENDAR
PRODID:NingEventWidget-v1
VERSION:2.0
METHOD:PUBLISH
BEGIN:VTIMEZONE
TZID:Europe/Berlin
X-LIC-LOCATION:Europe/Berlin
BEGIN:DAYLIGHT
TZOFFSETFROM:+0100
TZOFFSETTO:+0200
TZNAME:CEST
DTSTART:19700329T020000
RRULE:FREQ=YEARLY;BYMONTH=3;BYDAY=-1SU
END:DAYLIGHT
BEGIN:STANDARD
TZOFFSETFROM:+0200
TZOFFSETTO:+0100
TZNAME:CET
DTSTART:19701025T030000
RRULE:FREQ=YEARLY;BYMONTH=10;BYDAY=-1SU
END:STANDARD
END:VTIMEZONE
BEGIN:VEVENT
UID:3858342:Event:57443
DTSTAMP:20260422T200011Z
SUMMARY:GZ-BASEL,  international fair of contemporary art of artists
DESCRIPTION: international fair of contemporary art of artist\nexhibi
 tion painting photography sculpture video\n\nWeitere Informationen erh
 alten Sie unter http://hannos-forum.de/events/gz-basel-international-f
 air-of-contemporary-art-of-artists
DTSTART;TZID=Europe/Berlin:20150530T170000
DTEND;TZID=Europe/Berlin:20150607T180000
CATEGORIES:artexposition
LOCATION:Holbeinstrasse 58, Haupt, Innenhof, 4051 Basel
WEBSITE:
URL:
CONTACT:
ORGANIZER;CN="MARGARETHA GUBERNALE":http://hannos-forum.de/profile/MAR
 GARETHAGUBERNALE
ATTACH;FMTTYPE="image/jpeg":http://storage.ning.com/topology/rest/1.0/
 file/get/2835439858?profile=original
ATTENDEE;ROLE=REQ-PARTICIPANT;PARTSTAT=ACCEPTED;RSVP=TRUE;CN="MARGARET
 HA GUBERNALE":http://hannos-forum.de/profile/MARGARETHAGUBERNALE
END:VEVENT
END:VCALENDAR
