BEGIN:VCALENDAR
PRODID:NingEventWidget-v1
VERSION:2.0
METHOD:PUBLISH
BEGIN:VTIMEZONE
TZID:Europe/Berlin
X-LIC-LOCATION:Europe/Berlin
BEGIN:DAYLIGHT
TZOFFSETFROM:+0100
TZOFFSETTO:+0200
TZNAME:CEST
DTSTART:19700329T020000
RRULE:FREQ=YEARLY;BYMONTH=3;BYDAY=-1SU
END:DAYLIGHT
BEGIN:STANDARD
TZOFFSETFROM:+0200
TZOFFSETTO:+0100
TZNAME:CET
DTSTART:19701025T030000
RRULE:FREQ=YEARLY;BYMONTH=10;BYDAY=-1SU
END:STANDARD
END:VTIMEZONE
BEGIN:VEVENT
UID:3858342:Event:41683
DTSTAMP:20260422T164351Z
SUMMARY:FIRENZE CONTEMPORANEA
DESCRIPTION:COMPANY OF FINE ARTS\nKreis von KÃ¼nstlernÂ MUSEO CASA DI 
 DANTE\nFLORENZ, ITALIEN\nAUSSTELLUNG VON ITALIA ARTE,\nMIIT INTERNATIO
 NALES MUSEUM ITALIA ARTE,\nGALERIE FOLCO\nIDEE DER AUSSTELLUNG: DIE BE
 STEN ITALIENISCHEN UND AUSLÃ„NDISCHEN KÃœNSTLER IN FLORENZ\n\nItalia A
 rte, MIIT, Galerie Folco in Zusammenarbeit und unter der Schirmherrsch
 aft von Ã¶ffentlichen sowie privaten Institutionen organisieren und kÃ
 ¼mmern sich um die Ausstellung \"ZeitgenÃ¶ssisches Florenz\", die in d
 en prestigetrÃ¤chtigen RÃ¤umen der Gesellschaft zur FÃ¶rderung der Sch
 Ã¶nen KÃ¼nste â€žMuseum Casa di Danteâ€œ in Florenz stattfinden wird.Â
  \nAusstellung: vom 19. Januar bis 31. Januar 2013.\nErÃ¶ffnung: Samst
 ag, 19. Januar 2013 um 17:00 Uhr\nÃ–ffnungszeiten: Dienstag-Sonntag 10
 .00-12.00 und 16.00-19.00 Uhr, Montag geschlossen.\nUm eine sorgfÃ¤lti
 ge Auswahl der besten italienischen und auslÃ¤ndischen zeitgenÃ¶ssisch
 en KÃ¼nstler prÃ¤sentieren zu kÃ¶nnen, wurde ein historischer Ort, ein
 zigartig fÃ¼r seinen Charme sowie Geschichte ausgewÃ¤hlt. Seine GrÃ¼nd
 ung geht in das Jahr 1843 zurÃ¼ck, als eine Gruppe von noblen Florenti
 ner Â \"La SocietÃ  Promotrice di Belle Arti\" grÃ¼ndeten mit dem Ziel
  der FÃ¶rderung und Propaganda, die Kunst in ihren verschiedenen Ersch
 einungsformen zu prÃ¤sentieren.\n\nWeitere Informationen erhalten Sie 
 unter http://hannos-forum.de/events/firenze-contemporanea
DTSTART;TZID=Europe/Berlin:20130119T170000
DTEND;TZID=Europe/Berlin:20130131T190000
CATEGORIES:kunstausstelung
LOCATION:Museo Casa di Dante
WEBSITE:http://www.museocasadidante.it/museo_casa_di_dante/public/inde
 x.php?lang=en
URL:http://www.museocasadidante.it/museo_casa_di_dante/public/index.ph
 p?lang=en
CONTACT:+39 055 219416
ORGANIZER:Dr. Guido Folco
ATTACH;FMTTYPE="image/jpeg":http://storage.ning.com/topology/rest/1.0/
 file/get/2805539500?profile=original
ATTENDEE;ROLE=REQ-PARTICIPANT;PARTSTAT=ACCEPTED;RSVP=TRUE;CN="Manuella
  Muerner Marioni":http://hannos-forum.de/profile/ManuellaMuernerMarion
 i
END:VEVENT
END:VCALENDAR
