BEGIN:VCALENDAR
PRODID:NingEventWidget-v1
VERSION:2.0
METHOD:PUBLISH
BEGIN:VTIMEZONE
TZID:Europe/Berlin
X-LIC-LOCATION:Europe/Berlin
BEGIN:DAYLIGHT
TZOFFSETFROM:+0100
TZOFFSETTO:+0200
TZNAME:CEST
DTSTART:19700329T020000
RRULE:FREQ=YEARLY;BYMONTH=3;BYDAY=-1SU
END:DAYLIGHT
BEGIN:STANDARD
TZOFFSETFROM:+0200
TZOFFSETTO:+0100
TZNAME:CET
DTSTART:19701025T030000
RRULE:FREQ=YEARLY;BYMONTH=10;BYDAY=-1SU
END:STANDARD
END:VTIMEZONE
BEGIN:VEVENT
UID:3858342:Event:3136
DTSTAMP:20260422T194241Z
SUMMARY:\"EIN FLUSS FLIESST,WEIL ER EINE QUELLE HAT\" Kunstausstellung
  der Malerin Jutta Brandt-Stracke
DESCRIPTION:Kunstausstellung der Malerin\nJutta Brandt-Stracke\n\nErde
  - Luft - Feuer - Wasser.\nMit den Elementen verbunden, ein Teil sein 
 der Natur -\nAus Sicht der Malerin Jutta Brandt-Stracke ist das die Ba
 sis des Lebendigseins.\nLebendigsein erleben wir als eine Spannung zwi
 schen zwei Polen. Wir schwingen zwischen Einatmen und Ausatmen, Tag un
 d Nacht, Neugier und Desinteresse, Zuneigung und Abneigung. Schwingung
 . Energie...Dass wir unser Erleben mit anderen teilen, dass wir kommun
 izieren können, macht uns zu sozialen Wesen.\n\nBilder - die Sprache 
 unserer Seele - sind für die Düsseldorfer Malerin Jutta Brandt-Strac
 ke die direkteste Form der Kommunikation.\nIn ihrer Ausstellung vom 8.
  bis 26. Mai in der Kulturbrenenrei will sie über und durch ihre Arbe
 iten mit den Besuchern ins Gespräch kommen und Impulse zu eigener Aus
 einandersetzung geben.\n\n\nVERNISSAGE am\nSamstag, dem 8.Mai 2010\n18
  bis 20 Uhr\n\nin der\n\nKulturbrennerei Haselberg\nHauptstraße 40\n1
 6269 Wriezen/ OT Haselberg\n\n!!!!NUR 40 MINUTEN AUTOFAHRT VON BERLIN!
 !!!\n\n====================================================\n\nWeitere
  Infos, Öffnungszeiten und interaktive Sonderaktionen unter\nhttp://s
 283785124.website-start.de/\nund\nhttp://www.brandtstracke.de/\n\n(An 
 die Eröffnung schließt sich ein Jazz-Konzert mit dem Bernd Spanier Q
 uartett an.)\n\nWeitere Informationen erhalten Sie unter http://hannos
 -forum.de/events/ein-fluss-fliesstweil-er-eine
DTSTART;TZID=Europe/Berlin:20100508T000000
DTEND;TZID=Europe/Berlin:20100526T235900
CATEGORIES:kunstausstellung, der, malerin, jutta, brandt-stracke
LOCATION:Kulturbrennerei Haselberg
WEBSITE:http://s283785124.website-start.de/
URL:http://s283785124.website-start.de/
CONTACT:
ORGANIZER:Jutta Brandt-Stracke
ATTACH;FMTTYPE="image/jpeg":http://storage.ning.com/topology/rest/1.0/
 file/get/2835431028?profile=original
ATTENDEE;ROLE=REQ-PARTICIPANT;PARTSTAT=ACCEPTED;RSVP=TRUE;CN="Joas Neb
 e":http://hannos-forum.de/profile/JoasNebe
ATTENDEE;ROLE=REQ-PARTICIPANT;PARTSTAT=TENTATIVE;RSVP=TRUE;CN="Hanno R
 eitschmidt":http://hannos-forum.de/profile/HannoReitschmidt
END:VEVENT
END:VCALENDAR
