BEGIN:VCALENDAR
PRODID:NingEventWidget-v1
VERSION:2.0
METHOD:PUBLISH
BEGIN:VTIMEZONE
TZID:Europe/Berlin
X-LIC-LOCATION:Europe/Berlin
BEGIN:DAYLIGHT
TZOFFSETFROM:+0100
TZOFFSETTO:+0200
TZNAME:CEST
DTSTART:19700329T020000
RRULE:FREQ=YEARLY;BYMONTH=3;BYDAY=-1SU
END:DAYLIGHT
BEGIN:STANDARD
TZOFFSETFROM:+0200
TZOFFSETTO:+0100
TZNAME:CET
DTSTART:19701025T030000
RRULE:FREQ=YEARLY;BYMONTH=10;BYDAY=-1SU
END:STANDARD
END:VTIMEZONE
BEGIN:VEVENT
UID:3858342:Event:53549
DTSTAMP:20260421T102853Z
SUMMARY:Berlin: Ausstellung in der LDX-ARTODROME GALLERY
DESCRIPTION:LDX ARTODROME GALLERY\nin Berlin\npräsentiert\nAusstellun
 g „INTUITION“\n26.04.2014 – 24.05.2014\nVernissage: Samstag, 26.
  April 2014, ab 19.00 Uhr\n\nDie Künstlerin MANUELLA MUERNER MARIONI
  ist mit zwei ihrer bekanntesten Bilder vertreten:\n\n\nJazz Torso ©
 , Acryl mit Tonträgern auf Leinwand, 100 x 75 cm und \n\nSorrow ©,
  Acryl auf Leinwand, 100 x 75 cm\n\nÖffnungszeiten Galerie:\nDienstag
 : 16.00 – 18.30\nDonnerstag: 15.30 – 18.30\nFreitag: 15.30 – 18.
 30\nSamstag: 14.00 – 19.00\njeden 2. Sonntag 15.30 – 18.30\n\n\n\n
 Weitere Informationen erhalten Sie unter http://hannos-forum.de/events
 /berlin-ausstellung-in-der-ldx-artodrome-gallery-1
DTSTART;TZID=Europe/Berlin:20140426T190000
DTEND;TZID=Europe/Berlin:20140524T190000
CATEGORIES:kunstausstellung
LOCATION:LDX ARTODROME GALLERY
WEBSITE:http://artodrome.de/
URL:http://artodrome.de/
CONTACT:0049 (0)30 224 35 850
ORGANIZER:Dr. Stefan Kunkler - Galeriedirektor
ATTACH;FMTTYPE="image/jpeg":http://storage.ning.com/topology/rest/1.0/
 file/get/2805531909?profile=original
ATTENDEE;ROLE=REQ-PARTICIPANT;PARTSTAT=ACCEPTED;RSVP=TRUE;CN="Manuella
  Muerner Marioni":http://hannos-forum.de/profile/ManuellaMuernerMarion
 i
ATTENDEE;ROLE=REQ-PARTICIPANT;PARTSTAT=TENTATIVE;RSVP=TRUE;CN="Hajo Ge
 org Fortagne":http://hannos-forum.de/profile/HajoGeorgFortagne
END:VEVENT
END:VCALENDAR
