BEGIN:VCALENDAR
PRODID:NingEventWidget-v1
VERSION:2.0
METHOD:PUBLISH
BEGIN:VTIMEZONE
TZID:Europe/Berlin
X-LIC-LOCATION:Europe/Berlin
BEGIN:DAYLIGHT
TZOFFSETFROM:+0100
TZOFFSETTO:+0200
TZNAME:CEST
DTSTART:19700329T020000
RRULE:FREQ=YEARLY;BYMONTH=3;BYDAY=-1SU
END:DAYLIGHT
BEGIN:STANDARD
TZOFFSETFROM:+0200
TZOFFSETTO:+0100
TZNAME:CET
DTSTART:19701025T030000
RRULE:FREQ=YEARLY;BYMONTH=10;BYDAY=-1SU
END:STANDARD
END:VTIMEZONE
BEGIN:VEVENT
UID:3858342:Event:57479
DTSTAMP:20260422T194248Z
SUMMARY:ART SHAPE LANGUAGE
DESCRIPTION:THE STRAND GALLERY LONDON\npräsentiert\nKunstausstellung 
 \"ART SHAPE LANGUAGE\"\nVernissage: 30. Juni 2015, ab 18.00 Uhr\nAusst
 ellung vom 30. Juni - 5. Juli 2015\nGalerie Öffnungszeiten:\njeden Ta
 g von 11.00 - 18.00 Uhr\n\nWeitere Informationen erhalten Sie unter ht
 tp://hannos-forum.de/events/art-shape-language
DTSTART;TZID=Europe/Berlin:20150630T180000
DTEND;TZID=Europe/Berlin:20150705T180000
CATEGORIES:kunstausstellung
LOCATION:THE STRAND GALLERY
WEBSITE:https://thestrandgallery.wordpress.com/
URL:https://thestrandgallery.wordpress.com/
CONTACT:+44 (0)207 839 4942
ORGANIZER:ITALIA ARTE, Dr. Guido Folco
ATTACH;FMTTYPE="image/jpeg":http://storage.ning.com/topology/rest/1.0/
 file/get/2805534596?profile=original
ATTENDEE;ROLE=REQ-PARTICIPANT;PARTSTAT=ACCEPTED;RSVP=TRUE;CN="Manuella
  Muerner Marioni":http://hannos-forum.de/profile/ManuellaMuernerMarion
 i
END:VEVENT
END:VCALENDAR
