BEGIN:VCALENDAR
PRODID:NingEventWidget-v1
VERSION:2.0
METHOD:PUBLISH
BEGIN:VTIMEZONE
TZID:Europe/Berlin
X-LIC-LOCATION:Europe/Berlin
BEGIN:DAYLIGHT
TZOFFSETFROM:+0100
TZOFFSETTO:+0200
TZNAME:CEST
DTSTART:19700329T020000
RRULE:FREQ=YEARLY;BYMONTH=3;BYDAY=-1SU
END:DAYLIGHT
BEGIN:STANDARD
TZOFFSETFROM:+0200
TZOFFSETTO:+0100
TZNAME:CET
DTSTART:19701025T030000
RRULE:FREQ=YEARLY;BYMONTH=10;BYDAY=-1SU
END:STANDARD
END:VTIMEZONE
BEGIN:VEVENT
UID:3858342:Event:55380
DTSTAMP:20260422T181701Z
SUMMARY:Annette Kunow auf der Festzeit
DESCRIPTION:Annette Kunow stellt auf  der Kunstausstellung LDX Artodr
 ome in Berlin aus.\n\nWeitere Informationen erhalten Sie unter http://
 hannos-forum.de/events/annette-kunow-auf-der-festzeit
DTSTART;TZID=Europe/Berlin:20141211T190000
DTEND;TZID=Europe/Berlin:20150113T183000
CATEGORIES:kunstausstellung
LOCATION:Linienstraße 1 1 1, 101 15 Berlin
WEBSITE:http://artodrome.de/ausstellungen/
URL:http://artodrome.de/ausstellungen/
CONTACT:
ORGANIZER:LDX Artodrome
ATTACH;FMTTYPE="image/jpeg":http://storage.ning.com/topology/rest/1.0/
 file/get/2835439837?profile=original
ATTENDEE;ROLE=REQ-PARTICIPANT;PARTSTAT=ACCEPTED;RSVP=TRUE;CN="Annette 
 Kunow":http://hannos-forum.de/profile/AnnetteKunow
END:VEVENT
END:VCALENDAR
