BEGIN:VCALENDAR
PRODID:NingEventWidget-v1
VERSION:2.0
METHOD:PUBLISH
BEGIN:VTIMEZONE
TZID:Europe/Berlin
X-LIC-LOCATION:Europe/Berlin
BEGIN:DAYLIGHT
TZOFFSETFROM:+0100
TZOFFSETTO:+0200
TZNAME:CEST
DTSTART:19700329T020000
RRULE:FREQ=YEARLY;BYMONTH=3;BYDAY=-1SU
END:DAYLIGHT
BEGIN:STANDARD
TZOFFSETFROM:+0200
TZOFFSETTO:+0100
TZNAME:CET
DTSTART:19701025T030000
RRULE:FREQ=YEARLY;BYMONTH=10;BYDAY=-1SU
END:STANDARD
END:VTIMEZONE
BEGIN:VEVENT
UID:3858342:Event:54984
DTSTAMP:20260422T182536Z
SUMMARY:Annette Kunow auf der Art Fair am Stand E6 der LDXArtodrome
DESCRIPTION:Annette Kunow auf der Art Fair\n\nWeitere Informationen er
 halten Sie unter http://hannos-forum.de/events/annette-kunow-auf-der-a
 rt-fair-am-stand-e6-der-ldxartodrome
DTSTART;TZID=Europe/Berlin:20141023T110000
DTEND;TZID=Europe/Berlin:20141029T190000
CATEGORIES:kunstmesse
LOCATION:Köln
WEBSITE:http://www.art-fair.de/artfair
URL:http://www.art-fair.de/artfair
CONTACT:
ORGANIZER:Art Fair Köln
ATTACH;FMTTYPE="image/jpeg":http://storage.ning.com/topology/rest/1.0/
 file/get/2835439383?profile=original
ATTENDEE;ROLE=REQ-PARTICIPANT;PARTSTAT=ACCEPTED;RSVP=TRUE;CN="Annette 
 Kunow":http://hannos-forum.de/profile/AnnetteKunow
END:VEVENT
END:VCALENDAR
